Package: OmaDB Version: 2.25.0 Command: rm -rf OmaDB.buildbin-libdir && mkdir OmaDB.buildbin-libdir && /Users/biocbuild/BBS/utils/build-universal.sh OmaDB_2.25.0.tar.gz /Library/Frameworks/R.framework/Resources/bin/R OmaDB.buildbin-libdir StartedAt: 2025-10-24 01:47:56 -0400 (Fri, 24 Oct 2025) EndedAt: 2025-10-24 01:48:21 -0400 (Fri, 24 Oct 2025) EllapsedTime: 24.3 seconds RetCode: 0 Status: OK PackageFile: OmaDB_2.25.0.tgz PackageFileSize: 177.5 KiB