Package: OmaDB Version: 2.25.0 Command: /Library/Frameworks/R.framework/Resources/bin/R CMD INSTALL OmaDB StartedAt: 2025-10-23 15:24:16 -0400 (Thu, 23 Oct 2025) EndedAt: 2025-10-23 15:24:23 -0400 (Thu, 23 Oct 2025) EllapsedTime: 6.4 seconds RetCode: 0 Status: OK