Package: OVESEG Version: 1.25.0 Command: /home/biocbuild/R/R/bin/R CMD build --keep-empty-dirs --no-resave-data OVESEG StartedAt: 2025-10-14 02:23:41 -0000 (Tue, 14 Oct 2025) EndedAt: 2025-10-14 02:32:46 -0000 (Tue, 14 Oct 2025) EllapsedTime: 544.8 seconds RetCode: 0 Status: OK PackageFile: OVESEG_1.25.0.tar.gz PackageFileSize: 791.3 KiB