Package: OVESEG Version: 1.25.0 Command: chmod a+r OVESEG -R && F:\biocbuild\bbs-3.22-bioc\R\bin\R.exe CMD build --keep-empty-dirs --no-resave-data OVESEG StartedAt: 2025-08-14 22:07:17 -0400 (Thu, 14 Aug 2025) EndedAt: 2025-08-14 22:13:14 -0400 (Thu, 14 Aug 2025) EllapsedTime: 356.4 seconds RetCode: 0 Status: OK PackageFile: OVESEG_1.25.0.tar.gz PackageFileSize: 766 KiB