Package: OVESEG Version: 1.25.0 Command: rm -rf OVESEG.buildbin-libdir && mkdir OVESEG.buildbin-libdir && F:\biocbuild\bbs-3.22-bioc\R\bin\R.exe CMD INSTALL --build --library=OVESEG.buildbin-libdir OVESEG_1.25.0.tar.gz StartedAt: 2025-08-15 10:54:34 -0400 (Fri, 15 Aug 2025) EndedAt: 2025-08-15 10:55:00 -0400 (Fri, 15 Aug 2025) EllapsedTime: 26.5 seconds RetCode: 0 Status: OK PackageFile: OVESEG_1.25.0.zip PackageFileSize: 1.143 MiB