Package: OVESEG Version: 1.25.0 Command: /home/biocbuild/bbs-3.22-bioc/R/bin/R CMD build --keep-empty-dirs --no-resave-data --md5 OVESEG StartedAt: 2025-10-15 19:19:34 -0400 (Wed, 15 Oct 2025) EndedAt: 2025-10-15 19:25:11 -0400 (Wed, 15 Oct 2025) EllapsedTime: 336.3 seconds RetCode: 0 Status: OK PackageFile: OVESEG_1.25.0.tar.gz PackageFileSize: 800.2 KiB