Package: OVESEG Version: 1.25.0 Command: /Library/Frameworks/R.framework/Resources/bin/R CMD INSTALL OVESEG StartedAt: 2025-10-15 15:19:43 -0400 (Wed, 15 Oct 2025) EndedAt: 2025-10-15 15:20:05 -0400 (Wed, 15 Oct 2025) EllapsedTime: 22.1 seconds RetCode: 0 Status: OK