Package: OVESEG Version: 1.25.0 Command: /Library/Frameworks/R.framework/Resources/bin/R CMD check --install=check:OVESEG.install-out.txt --library=/Library/Frameworks/R.framework/Resources/library --no-vignettes --timings OVESEG_1.25.0.tar.gz StartedAt: 2025-10-16 00:13:24 -0400 (Thu, 16 Oct 2025) EndedAt: 2025-10-16 00:16:00 -0400 (Thu, 16 Oct 2025) EllapsedTime: 156.5 seconds RetCode: 0 Status: OK CheckDir: OVESEG.Rcheck Warnings: 0