Package: OVESEG Version: 1.25.0 Command: /Library/Frameworks/R.framework/Resources/bin/R CMD build --keep-empty-dirs --no-resave-data OVESEG StartedAt: 2025-10-15 17:21:24 -0400 (Wed, 15 Oct 2025) EndedAt: 2025-10-15 17:23:21 -0400 (Wed, 15 Oct 2025) EllapsedTime: 117.4 seconds RetCode: 0 Status: OK PackageFile: OVESEG_1.25.0.tar.gz PackageFileSize: 796.8 KiB