Package: OUTRIDER Version: 1.27.2 Command: /home/biocbuild/R/R/bin/R CMD INSTALL OUTRIDER StartedAt: 2025-10-23 21:05:05 -0000 (Thu, 23 Oct 2025) EndedAt: 2025-10-23 21:06:28 -0000 (Thu, 23 Oct 2025) EllapsedTime: 82.7 seconds RetCode: 0 Status: OK