Package: OUTRIDER Version: 1.28.0 Command: /home/biocbuild/bbs-3.22-bioc/R/bin/R CMD INSTALL OUTRIDER StartedAt: 2025-11-10 15:48:14 -0500 (Mon, 10 Nov 2025) EndedAt: 2025-11-10 15:49:19 -0500 (Mon, 10 Nov 2025) EllapsedTime: 64.5 seconds RetCode: 0 Status: OK