Package: OUTRIDER Version: 1.28.0 Command: /home/biocbuild/bbs-3.22-bioc/R/bin/R CMD check --install=check:OUTRIDER.install-out.txt --library=/home/biocbuild/bbs-3.22-bioc/R/site-library --timings OUTRIDER_1.28.0.tar.gz StartedAt: 2025-11-11 02:34:16 -0500 (Tue, 11 Nov 2025) EndedAt: 2025-11-11 02:49:59 -0500 (Tue, 11 Nov 2025) EllapsedTime: 943.3 seconds RetCode: 0 Status: OK CheckDir: OUTRIDER.Rcheck Warnings: 0