Package: OUTRIDER Version: 1.28.0 Command: /Library/Frameworks/R.framework/Resources/bin/R CMD build --keep-empty-dirs --no-resave-data OUTRIDER StartedAt: 2025-11-10 17:17:14 -0500 (Mon, 10 Nov 2025) EndedAt: 2025-11-10 17:19:50 -0500 (Mon, 10 Nov 2025) EllapsedTime: 155.7 seconds RetCode: 0 Status: OK PackageFile: OUTRIDER_1.28.0.tar.gz PackageFileSize: 2.497 MiB