Package: OUTRIDER Version: 1.28.0 Command: rm -rf OUTRIDER.buildbin-libdir && mkdir OUTRIDER.buildbin-libdir && /Users/biocbuild/BBS/utils/build-universal.sh OUTRIDER_1.28.0.tar.gz /Library/Frameworks/R.framework/Resources/bin/R OUTRIDER.buildbin-libdir StartedAt: 2025-11-10 23:30:30 -0500 (Mon, 10 Nov 2025) EndedAt: 2025-11-10 23:30:54 -0500 (Mon, 10 Nov 2025) EllapsedTime: 23.6 seconds RetCode: 0 Status: OK PackageFile: OUTRIDER_1.28.0.tgz PackageFileSize: 2.581 MiB