Package: OTUbase Version: 1.59.0 Command: chmod a+r OTUbase -R && F:\biocbuild\bbs-3.22-bioc\R\bin\R.exe CMD build --keep-empty-dirs --no-resave-data OTUbase StartedAt: 2025-08-14 22:07:05 -0400 (Thu, 14 Aug 2025) EndedAt: 2025-08-14 22:08:06 -0400 (Thu, 14 Aug 2025) EllapsedTime: 61.0 seconds RetCode: 0 Status: OK PackageFile: OTUbase_1.59.0.tar.gz PackageFileSize: 178.7 KiB