Package: OTUbase Version: 1.59.0 Command: /Library/Frameworks/R.framework/Resources/bin/R CMD build --keep-empty-dirs --no-resave-data OTUbase StartedAt: 2025-10-19 17:14:36 -0400 (Sun, 19 Oct 2025) EndedAt: 2025-10-19 17:15:00 -0400 (Sun, 19 Oct 2025) EllapsedTime: 24.2 seconds RetCode: 0 Status: OK PackageFile: OTUbase_1.59.0.tar.gz PackageFileSize: 179 KiB