Package: ORFhunteR Version: 1.17.0 Command: /home/biocbuild/R/R/bin/R CMD build --keep-empty-dirs --no-resave-data ORFhunteR StartedAt: 2025-09-30 02:02:20 -0000 (Tue, 30 Sep 2025) EndedAt: 2025-09-30 02:05:38 -0000 (Tue, 30 Sep 2025) EllapsedTime: 198.3 seconds RetCode: 0 Status: OK PackageFile: ORFhunteR_1.17.0.tar.gz PackageFileSize: 2.131 MiB