Package: OPWeight Version: 1.32.0 Command: /Library/Frameworks/R.framework/Resources/bin/R CMD build --keep-empty-dirs --no-resave-data OPWeight StartedAt: 2025-10-31 18:09:52 -0400 (Fri, 31 Oct 2025) EndedAt: 2025-10-31 18:12:57 -0400 (Fri, 31 Oct 2025) EllapsedTime: 185.8 seconds RetCode: 0 Status: OK PackageFile: OPWeight_1.32.0.tar.gz PackageFileSize: 491.4 KiB