Package: OPWeight Version: 1.31.0 Command: /Library/Frameworks/R.framework/Resources/bin/R CMD check --install=check:OPWeight.install-out.txt --library=/Library/Frameworks/R.framework/Resources/library --no-vignettes --timings OPWeight_1.31.0.tar.gz StartedAt: 2025-10-24 21:10:42 -0400 (Fri, 24 Oct 2025) EndedAt: 2025-10-24 21:11:06 -0400 (Fri, 24 Oct 2025) EllapsedTime: 24.3 seconds RetCode: 0 Status: OK CheckDir: OPWeight.Rcheck Warnings: 0