Package: OLINgui Version: 1.83.0 Command: /Library/Frameworks/R.framework/Resources/bin/R CMD build --keep-empty-dirs --no-resave-data OLINgui StartedAt: 2025-10-23 17:59:52 -0400 (Thu, 23 Oct 2025) EndedAt: 2025-10-23 18:00:08 -0400 (Thu, 23 Oct 2025) EllapsedTime: 16.0 seconds RetCode: 0 Status: OK PackageFile: OLINgui_1.83.0.tar.gz PackageFileSize: 373.6 KiB