Package: OLINgui Version: 1.83.0 Command: /Library/Frameworks/R.framework/Resources/bin/R CMD build --keep-empty-dirs --no-resave-data OLINgui StartedAt: 2025-10-17 17:14:41 -0400 (Fri, 17 Oct 2025) EndedAt: 2025-10-17 17:14:47 -0400 (Fri, 17 Oct 2025) EllapsedTime: 6.1 seconds RetCode: 0 Status: OK PackageFile: OLINgui_1.83.0.tar.gz PackageFileSize: 374.4 KiB