Package: OLIN Version: 1.87.0 Command: /home/biocbuild/bbs-3.22-bioc/R/bin/R CMD INSTALL OLIN StartedAt: 2025-10-20 15:03:07 -0400 (Mon, 20 Oct 2025) EndedAt: 2025-10-20 15:03:27 -0400 (Mon, 20 Oct 2025) EllapsedTime: 20.7 seconds RetCode: 0 Status: OK