Package: OLIN Version: 1.87.0 Command: /home/biocbuild/bbs-3.22-bioc/R/bin/R CMD check --install=check:OLIN.install-out.txt --library=/home/biocbuild/bbs-3.22-bioc/R/site-library --timings OLIN_1.87.0.tar.gz StartedAt: 2025-10-21 02:41:57 -0400 (Tue, 21 Oct 2025) EndedAt: 2025-10-21 02:43:09 -0400 (Tue, 21 Oct 2025) EllapsedTime: 72.1 seconds RetCode: 0 Status: OK CheckDir: OLIN.Rcheck Warnings: 0