Package: OLIN Version: 1.88.0 Command: rm -rf OLIN.buildbin-libdir && mkdir OLIN.buildbin-libdir && /Users/biocbuild/BBS/utils/build-universal.sh OLIN_1.88.0.tar.gz /Library/Frameworks/R.framework/Resources/bin/R OLIN.buildbin-libdir StartedAt: 2025-10-31 23:16:59 -0400 (Fri, 31 Oct 2025) EndedAt: 2025-10-31 23:17:02 -0400 (Fri, 31 Oct 2025) EllapsedTime: 3.1 seconds RetCode: 0 Status: OK PackageFile: OLIN_1.88.0.tgz PackageFileSize: 2.725 MiB