Package: OGRE Version: 1.13.1 Command: F:\biocbuild\bbs-3.22-bioc\R\bin\R.exe CMD check --no-multiarch --install=check:OGRE.install-out.txt --library=F:\biocbuild\bbs-3.22-bioc\R\library --no-vignettes --timings OGRE_1.13.1.tar.gz StartedAt: 2025-08-15 05:57:55 -0400 (Fri, 15 Aug 2025) EndedAt: 2025-08-15 06:06:57 -0400 (Fri, 15 Aug 2025) EllapsedTime: 541.8 seconds RetCode: 0 Status: OK CheckDir: OGRE.Rcheck Warnings: 0