Package: OGRE Version: 1.13.1 Command: rm -rf OGRE.buildbin-libdir && mkdir OGRE.buildbin-libdir && F:\biocbuild\bbs-3.22-bioc\R\bin\R.exe CMD INSTALL --build --library=OGRE.buildbin-libdir OGRE_1.13.1.tar.gz StartedAt: 2025-08-15 10:52:07 -0400 (Fri, 15 Aug 2025) EndedAt: 2025-08-15 10:53:09 -0400 (Fri, 15 Aug 2025) EllapsedTime: 61.7 seconds RetCode: 0 Status: OK PackageFile: OGRE_1.13.1.zip PackageFileSize: 1.059 MiB