Package: OGRE Version: 1.13.1 Command: /Library/Frameworks/R.framework/Resources/bin/R CMD INSTALL OGRE StartedAt: 2025-10-19 15:45:29 -0400 (Sun, 19 Oct 2025) EndedAt: 2025-10-19 15:46:41 -0400 (Sun, 19 Oct 2025) EllapsedTime: 72.2 seconds RetCode: 0 Status: OK