Package: OGRE Version: 1.13.1 Command: /Library/Frameworks/R.framework/Resources/bin/R CMD check --install=check:OGRE.install-out.txt --library=/Library/Frameworks/R.framework/Resources/library --no-vignettes --timings OGRE_1.13.1.tar.gz StartedAt: 2025-10-21 00:22:40 -0400 (Tue, 21 Oct 2025) EndedAt: 2025-10-21 00:33:58 -0400 (Tue, 21 Oct 2025) EllapsedTime: 678.5 seconds RetCode: 0 Status: OK CheckDir: OGRE.Rcheck Warnings: 0