Package: OGRE Version: 1.13.1 Command: /Library/Frameworks/R.framework/Resources/bin/R CMD build --keep-empty-dirs --no-resave-data OGRE StartedAt: 2025-10-20 18:31:51 -0400 (Mon, 20 Oct 2025) EndedAt: 2025-10-20 18:34:22 -0400 (Mon, 20 Oct 2025) EllapsedTime: 150.8 seconds RetCode: 0 Status: OK PackageFile: OGRE_1.13.1.tar.gz PackageFileSize: 1.728 MiB