Package: OGRE Version: 1.13.1 Command: rm -rf OGRE.buildbin-libdir && mkdir OGRE.buildbin-libdir && /Users/biocbuild/BBS/utils/build-universal.sh OGRE_1.13.1.tar.gz /Library/Frameworks/R.framework/Resources/bin/R OGRE.buildbin-libdir StartedAt: 2025-10-20 03:23:06 -0400 (Mon, 20 Oct 2025) EndedAt: 2025-10-20 03:24:20 -0400 (Mon, 20 Oct 2025) EllapsedTime: 74.0 seconds RetCode: 0 Status: OK PackageFile: OGRE_1.13.1.tgz PackageFileSize: 1.252 MiB