Package: OCplus Version: 1.83.0 Command: /home/biocbuild/R/R/bin/R CMD INSTALL OCplus StartedAt: 2025-10-23 20:32:33 -0000 (Thu, 23 Oct 2025) EndedAt: 2025-10-23 20:32:42 -0000 (Thu, 23 Oct 2025) EllapsedTime: 9.7 seconds RetCode: 0 Status: OK