Package: OCplus Version: 1.83.0 Command: /home/biocbuild/R/R/bin/R CMD check --install=check:OCplus.install-out.txt --library=/home/biocbuild/R/R/site-library --no-vignettes --timings OCplus_1.83.0.tar.gz StartedAt: 2025-10-17 11:46:49 -0000 (Fri, 17 Oct 2025) EndedAt: 2025-10-17 11:48:12 -0000 (Fri, 17 Oct 2025) EllapsedTime: 83.1 seconds RetCode: 0 Status: OK CheckDir: OCplus.Rcheck Warnings: 0