Package: OCplus Version: 1.83.0 Command: /home/biocbuild/R/R/bin/R CMD build --keep-empty-dirs --no-resave-data OCplus StartedAt: 2025-10-21 01:46:26 -0000 (Tue, 21 Oct 2025) EndedAt: 2025-10-21 01:46:57 -0000 (Tue, 21 Oct 2025) EllapsedTime: 31.0 seconds RetCode: 0 Status: OK PackageFile: OCplus_1.83.0.tar.gz PackageFileSize: 9.578 MiB