Package: OCplus Version: 1.83.0 Command: /home/biocbuild/bbs-3.22-bioc/R/bin/R CMD INSTALL OCplus StartedAt: 2025-10-21 15:16:46 -0400 (Tue, 21 Oct 2025) EndedAt: 2025-10-21 15:16:53 -0400 (Tue, 21 Oct 2025) EllapsedTime: 7.6 seconds RetCode: 0 Status: OK