Package: OCplus Version: 1.83.0 Command: /Library/Frameworks/R.framework/Resources/bin/R CMD check --install=check:OCplus.install-out.txt --library=/Library/Frameworks/R.framework/Resources/library --no-vignettes --timings OCplus_1.83.0.tar.gz StartedAt: 2025-10-24 22:59:48 -0400 (Fri, 24 Oct 2025) EndedAt: 2025-10-24 23:01:08 -0400 (Fri, 24 Oct 2025) EllapsedTime: 80.4 seconds RetCode: 0 Status: OK CheckDir: OCplus.Rcheck Warnings: 0