Package: OCplus Version: 1.83.0 Command: /Library/Frameworks/R.framework/Resources/bin/R CMD build --keep-empty-dirs --no-resave-data OCplus StartedAt: 2025-10-23 17:59:35 -0400 (Thu, 23 Oct 2025) EndedAt: 2025-10-23 18:00:07 -0400 (Thu, 23 Oct 2025) EllapsedTime: 32.0 seconds RetCode: 0 Status: OK PackageFile: OCplus_1.83.0.tar.gz PackageFileSize: 9.585 MiB