Package: OCplus Version: 1.83.0 Command: /Library/Frameworks/R.framework/Resources/bin/R CMD INSTALL OCplus StartedAt: 2025-10-22 15:08:16 -0400 (Wed, 22 Oct 2025) EndedAt: 2025-10-22 15:08:20 -0400 (Wed, 22 Oct 2025) EllapsedTime: 3.7 seconds RetCode: 0 Status: OK