Package: NuPoP Version: 2.17.0 Command: chmod a+r NuPoP -R && F:\biocbuild\bbs-3.22-bioc\R\bin\R.exe CMD build --keep-empty-dirs --no-resave-data NuPoP StartedAt: 2025-08-14 21:57:55 -0400 (Thu, 14 Aug 2025) EndedAt: 2025-08-14 21:58:21 -0400 (Thu, 14 Aug 2025) EllapsedTime: 26.6 seconds RetCode: 0 Status: OK PackageFile: NuPoP_2.17.0.tar.gz PackageFileSize: 6.036 MiB