Package: NuPoP Version: 2.17.0 Command: rm -rf NuPoP.buildbin-libdir && mkdir NuPoP.buildbin-libdir && F:\biocbuild\bbs-3.22-bioc\R\bin\R.exe CMD INSTALL --build --library=NuPoP.buildbin-libdir NuPoP_2.17.0.tar.gz StartedAt: 2025-08-15 10:51:54 -0400 (Fri, 15 Aug 2025) EndedAt: 2025-08-15 10:52:17 -0400 (Fri, 15 Aug 2025) EllapsedTime: 22.8 seconds RetCode: 0 Status: OK PackageFile: NuPoP_2.17.0.zip PackageFileSize: 4.472 MiB