Package: NuPoP Version: 2.17.0 Command: /Library/Frameworks/R.framework/Resources/bin/R CMD build --keep-empty-dirs --no-resave-data NuPoP StartedAt: 2025-10-16 17:26:45 -0400 (Thu, 16 Oct 2025) EndedAt: 2025-10-16 17:26:54 -0400 (Thu, 16 Oct 2025) EllapsedTime: 9.1 seconds RetCode: 0 Status: OK PackageFile: NuPoP_2.17.0.tar.gz PackageFileSize: 6.133 MiB