Package: NuPoP Version: 2.17.0 Command: rm -rf NuPoP.buildbin-libdir && mkdir NuPoP.buildbin-libdir && /Users/biocbuild/BBS/utils/build-universal.sh NuPoP_2.17.0.tar.gz /Library/Frameworks/R.framework/Resources/bin/R NuPoP.buildbin-libdir StartedAt: 2025-10-16 23:10:56 -0400 (Thu, 16 Oct 2025) EndedAt: 2025-10-16 23:11:03 -0400 (Thu, 16 Oct 2025) EllapsedTime: 7.1 seconds RetCode: 0 Status: OK PackageFile: NuPoP_2.17.0.tgz PackageFileSize: 4.399 MiB