Package: NormqPCR Version: 1.56.0 Command: /home/biocbuild/R/R/bin/R CMD check --install=check:NormqPCR.install-out.txt --library=/home/biocbuild/R/R/site-library --no-vignettes --timings NormqPCR_1.56.0.tar.gz StartedAt: 2025-11-14 12:20:35 -0000 (Fri, 14 Nov 2025) EndedAt: 2025-11-14 12:22:46 -0000 (Fri, 14 Nov 2025) EllapsedTime: 130.2 seconds RetCode: 0 Status: OK CheckDir: NormqPCR.Rcheck Warnings: 0