Package: NewWave Version: 1.19.0 Command: /home/biocbuild/R/R/bin/R CMD INSTALL NewWave StartedAt: 2025-10-16 22:21:14 -0000 (Thu, 16 Oct 2025) EndedAt: 2025-10-16 22:21:49 -0000 (Thu, 16 Oct 2025) EllapsedTime: 34.8 seconds RetCode: 0 Status: OK