Package: NewWave Version: 1.19.0 Command: /home/biocbuild/R/R/bin/R CMD check --install=check:NewWave.install-out.txt --library=/home/biocbuild/R/R/site-library --no-vignettes --timings NewWave_1.19.0.tar.gz StartedAt: 2025-10-17 11:41:54 -0000 (Fri, 17 Oct 2025) EndedAt: 2025-10-17 11:46:14 -0000 (Fri, 17 Oct 2025) EllapsedTime: 260.3 seconds RetCode: 0 Status: OK CheckDir: NewWave.Rcheck Warnings: 0