Package: NewWave Version: 1.19.0 Command: /home/biocbuild/R/R/bin/R CMD build --keep-empty-dirs --no-resave-data NewWave StartedAt: 2025-10-17 03:10:40 -0000 (Fri, 17 Oct 2025) EndedAt: 2025-10-17 03:13:49 -0000 (Fri, 17 Oct 2025) EllapsedTime: 189.1 seconds RetCode: 0 Status: OK PackageFile: NewWave_1.19.0.tar.gz PackageFileSize: 57.85 KiB