Package: NewWave Version: 1.19.0 Command: rm -rf NewWave.buildbin-libdir && mkdir NewWave.buildbin-libdir && F:\biocbuild\bbs-3.22-bioc\R\bin\R.exe CMD INSTALL --build --library=NewWave.buildbin-libdir NewWave_1.19.0.tar.gz StartedAt: 2025-08-15 10:50:54 -0400 (Fri, 15 Aug 2025) EndedAt: 2025-08-15 10:51:57 -0400 (Fri, 15 Aug 2025) EllapsedTime: 63.0 seconds RetCode: 0 Status: OK PackageFile: NewWave_1.19.0.zip PackageFileSize: 383 KiB