Package: NewWave Version: 1.19.0 Command: /home/biocbuild/bbs-3.22-bioc/R/bin/R CMD INSTALL NewWave StartedAt: 2025-10-19 15:55:57 -0400 (Sun, 19 Oct 2025) EndedAt: 2025-10-19 15:56:23 -0400 (Sun, 19 Oct 2025) EllapsedTime: 25.9 seconds RetCode: 0 Status: OK