Package: NewWave Version: 1.19.0 Command: /home/biocbuild/bbs-3.22-bioc/R/bin/R CMD check --install=check:NewWave.install-out.txt --library=/home/biocbuild/bbs-3.22-bioc/R/site-library --timings NewWave_1.19.0.tar.gz StartedAt: 2025-10-20 02:41:17 -0400 (Mon, 20 Oct 2025) EndedAt: 2025-10-20 02:46:17 -0400 (Mon, 20 Oct 2025) EllapsedTime: 300.2 seconds RetCode: 0 Status: OK CheckDir: NewWave.Rcheck Warnings: 0