Package: NewWave Version: 1.19.0 Command: /home/biocbuild/bbs-3.22-bioc/R/bin/R CMD build --keep-empty-dirs --no-resave-data --md5 NewWave StartedAt: 2025-10-19 19:01:27 -0400 (Sun, 19 Oct 2025) EndedAt: 2025-10-19 19:03:33 -0400 (Sun, 19 Oct 2025) EllapsedTime: 126.1 seconds RetCode: 0 Status: OK PackageFile: NewWave_1.19.0.tar.gz PackageFileSize: 80.05 KiB