Package: NewWave Version: 1.19.0 Command: /Library/Frameworks/R.framework/Resources/bin/R CMD check --install=check:NewWave.install-out.txt --library=/Library/Frameworks/R.framework/Resources/library --no-vignettes --timings NewWave_1.19.0.tar.gz StartedAt: 2025-10-20 00:17:18 -0400 (Mon, 20 Oct 2025) EndedAt: 2025-10-20 00:21:18 -0400 (Mon, 20 Oct 2025) EllapsedTime: 240.5 seconds RetCode: 0 Status: OK CheckDir: NewWave.Rcheck Warnings: 0